BEGIN:VCALENDAR
VERSION:2.0
PRODID:-//Nederlandse Herdershonden Club - ECPv6.15.18//NONSGML v1.0//EN
CALSCALE:GREGORIAN
METHOD:PUBLISH
X-ORIGINAL-URL:https://hollandseherder.nl
X-WR-CALDESC:Evenementen voor Nederlandse Herdershonden Club
REFRESH-INTERVAL;VALUE=DURATION:PT1H
X-Robots-Tag:noindex
X-PUBLISHED-TTL:PT1H
BEGIN:VTIMEZONE
TZID:Europe/Amsterdam
BEGIN:DAYLIGHT
TZOFFSETFROM:+0100
TZOFFSETTO:+0200
TZNAME:CEST
DTSTART:20250330T010000
END:DAYLIGHT
BEGIN:STANDARD
TZOFFSETFROM:+0200
TZOFFSETTO:+0100
TZNAME:CET
DTSTART:20251026T010000
END:STANDARD
BEGIN:DAYLIGHT
TZOFFSETFROM:+0100
TZOFFSETTO:+0200
TZNAME:CEST
DTSTART:20260329T010000
END:DAYLIGHT
BEGIN:STANDARD
TZOFFSETFROM:+0200
TZOFFSETTO:+0100
TZNAME:CET
DTSTART:20261025T010000
END:STANDARD
BEGIN:DAYLIGHT
TZOFFSETFROM:+0100
TZOFFSETTO:+0200
TZNAME:CEST
DTSTART:20270328T010000
END:DAYLIGHT
BEGIN:STANDARD
TZOFFSETFROM:+0200
TZOFFSETTO:+0100
TZNAME:CET
DTSTART:20271031T010000
END:STANDARD
END:VTIMEZONE
BEGIN:VEVENT
DTSTART;TZID=Europe/Amsterdam:20260404T080000
DTEND;TZID=Europe/Amsterdam:20260404T170000
DTSTAMP:20260419T213428
CREATED:20260212T093913Z
LAST-MODIFIED:20260224T095746Z
UID:24366-1775289600-1775322000@hollandseherder.nl
SUMMARY:Hollandse Herder Racing Games 2.0
DESCRIPTION:Op 4 april 2026 worden de Hollandse Herder Racing Games 2.0 gehouden. \nLocatie: de Hondsdraf 30\, Lelystad. \nInformatie vindt u hier op Facebook \n  \nInschrijving opent 25 februari 2026 om 12 uur. Er zijn 50 startplaatsen. Vol=vol! \nContact organisatie
URL:https://hollandseherder.nl/agenda/hollandse-herder-racing-games-2-0/
CATEGORIES:Agenda,Evenement voor Hollandse Herdershonden
ATTACH;FMTTYPE=image/jpeg:https://hollandseherder.nl/wp-content/uploads/2026/02/hhracing2.0.jpeg
END:VEVENT
END:VCALENDAR