BEGIN:VCALENDAR
VERSION:2.0
PRODID:-//Nederlandse Herdershonden Club - ECPv6.15.18//NONSGML v1.0//EN
CALSCALE:GREGORIAN
METHOD:PUBLISH
X-WR-CALNAME:Nederlandse Herdershonden Club
X-ORIGINAL-URL:https://hollandseherder.nl
X-WR-CALDESC:Evenementen voor Nederlandse Herdershonden Club
REFRESH-INTERVAL;VALUE=DURATION:PT1H
X-Robots-Tag:noindex
X-PUBLISHED-TTL:PT1H
BEGIN:VTIMEZONE
TZID:Europe/Amsterdam
BEGIN:DAYLIGHT
TZOFFSETFROM:+0100
TZOFFSETTO:+0200
TZNAME:CEST
DTSTART:20240331T010000
END:DAYLIGHT
BEGIN:STANDARD
TZOFFSETFROM:+0200
TZOFFSETTO:+0100
TZNAME:CET
DTSTART:20241027T010000
END:STANDARD
BEGIN:DAYLIGHT
TZOFFSETFROM:+0100
TZOFFSETTO:+0200
TZNAME:CEST
DTSTART:20250330T010000
END:DAYLIGHT
BEGIN:STANDARD
TZOFFSETFROM:+0200
TZOFFSETTO:+0100
TZNAME:CET
DTSTART:20251026T010000
END:STANDARD
BEGIN:DAYLIGHT
TZOFFSETFROM:+0100
TZOFFSETTO:+0200
TZNAME:CEST
DTSTART:20260329T010000
END:DAYLIGHT
BEGIN:STANDARD
TZOFFSETFROM:+0200
TZOFFSETTO:+0100
TZNAME:CET
DTSTART:20261025T010000
END:STANDARD
END:VTIMEZONE
BEGIN:VEVENT
DTSTART;TZID=Europe/Amsterdam:20250914T080000
DTEND;TZID=Europe/Amsterdam:20250914T170000
DTSTAMP:20260420T095757
CREATED:20250606T150411Z
LAST-MODIFIED:20250804T121842Z
UID:23592-1757836800-1757869200@hollandseherder.nl
SUMMARY:NK Hollandse Herders 2025
DESCRIPTION:NK Hollandse Herders IGP 2025 \n14 september 2025 \nDe Hurken 4  Waalre \nafd. A/B/C \nKeurmeester: Mevrouw A. Matekovic
URL:https://hollandseherder.nl/agenda/nk-hollandse-herders-2025/
LOCATION:Terrein NK HH\, De Hurken 4\, Aalst Waalre\, Netherlands
CATEGORIES:Agenda,Competities en Kampioenschappen
ATTACH;FMTTYPE=image/jpeg:https://hollandseherder.nl/wp-content/uploads/2025/07/nkhh25.jpg
END:VEVENT
BEGIN:VEVENT
DTSTART;VALUE=DATE:20250712
DTEND;VALUE=DATE:20250713
DTSTAMP:20260420T095757
CREATED:20250525T175943Z
LAST-MODIFIED:20250626T091109Z
UID:23477-1752278400-1752364799@hollandseherder.nl
SUMMARY:NHAT en HWT
DESCRIPTION:NHAT en HWT \nKeurmeesters: Joke van Leeuwen-van Dijk en Hanke Karreman \nKlik hier voor informatie. Aanmelding sluit 1 juli!
URL:https://hollandseherder.nl/agenda/nhat-en-hwt/
LOCATION:Papekop\, Papekopperstraatweg 20\, Papekop\, 3464 HL\, Netherlands
CATEGORIES:Agenda
ATTACH;FMTTYPE=image/jpeg:https://hollandseherder.nl/wp-content/uploads/2022/09/schapenaanlegtest herding.jpg
END:VEVENT
BEGIN:VEVENT
DTSTART;VALUE=DATE:20250614
DTEND;VALUE=DATE:20250615
DTSTAMP:20260420T095757
CREATED:20250315T162628Z
LAST-MODIFIED:20250315T164350Z
UID:23088-1749859200-1749945599@hollandseherder.nl
SUMMARY:De Nationale 14 juni 2025 te Utrecht
DESCRIPTION:www.de-nationale.nl \nvoor nadere informatie klik hier
URL:https://hollandseherder.nl/agenda/de-nationale/
LOCATION:Terrein URV\, Manitobadreef 8\, Utrecht\, 3565 CH\, Nederland
CATEGORIES:Agenda,Competities en Kampioenschappen
ATTACH;FMTTYPE=image/jpeg:https://hollandseherder.nl/wp-content/uploads/2024/05/borger12.jpg
END:VEVENT
BEGIN:VEVENT
DTSTART;TZID=Europe/Amsterdam:20250524T133000
DTEND;TZID=Europe/Amsterdam:20250524T170000
DTSTAMP:20260420T095757
CREATED:20241024T144622Z
LAST-MODIFIED:20241024T144622Z
UID:22199-1748093400-1748106000@hollandseherder.nl
SUMMARY:Ledenvergadering
DESCRIPTION:
URL:https://hollandseherder.nl/agenda/ledenvergadering/
LOCATION:Sport en Cultureel Centrum de Camp\, Bosrand 15-17\, Woudenberg\, 3931 AP\, Nederland
CATEGORIES:Agenda,Vergaderingen
ATTACH;FMTTYPE=image/jpeg:https://hollandseherder.nl/wp-content/uploads/2023/01/de-camp-buiten-rh.jpg
END:VEVENT
BEGIN:VEVENT
DTSTART;TZID=Europe/Amsterdam:20250507T193000
DTEND;TZID=Europe/Amsterdam:20250507T210000
DTSTAMP:20260420T095757
CREATED:20250129T200046Z
LAST-MODIFIED:20250217T111737Z
UID:22784-1746646200-1746651600@hollandseherder.nl
SUMMARY:Webinar Fokken met mijn hond. Wat moet ik allemaal weten?
DESCRIPTION:
URL:https://hollandseherder.nl/agenda/webinar-fokken-met-mijn-hond-wat-moet-ik-allemaal-weten-2/
CATEGORIES:Agenda,Informatieavond
END:VEVENT
BEGIN:VEVENT
DTSTART;VALUE=DATE:20250421
DTEND;VALUE=DATE:20250422
DTSTAMP:20260420T095757
CREATED:20250316T133637Z
LAST-MODIFIED:20250316T150420Z
UID:23100-1745193600-1745279999@hollandseherder.nl
SUMMARY:Wandeling Tweede Paasdag
DESCRIPTION:Gezellige NHC-wandeling op Tweede Paasdag! \nOp Tweede Paasdag trekken we eropuit voor een prachtige wandeling in de bossen van Chaam! We verzamelen om 10:00 uur bij de steengroeve en genieten samen met onze Hollandse Herders van een mooie route door de natuur. \nOf je nu een ervaren wandelaar bent of gewoon zin hebt in een ontspannen tocht met gelijkgestemden\, iedereen is welkom! We hopen op een mooie opkomst en een gezellige dag met onze geweldige honden. \nNa afloop is er voor wie dat wil gelegenheid om samen iets te nuttigen en nog even na te praten. \nAanmelden kan tot 10 april via wandeling@hollandseherder.nl. \nZien we jou daar? Tot dan! \nMiranda Jongenelen
URL:https://hollandseherder.nl/agenda/wandeling-tweede-paasdag/
CATEGORIES:Agenda,NHC evenementen
END:VEVENT
END:VCALENDAR